BEGIN:VCALENDAR
VERSION:2.0
PRODID:-//Mikki Baloy - ECPv6.15.20//NONSGML v1.0//EN
CALSCALE:GREGORIAN
METHOD:PUBLISH
X-WR-CALNAME:Mikki Baloy
X-ORIGINAL-URL:https://mikkibaloy.com
X-WR-CALDESC:Events for Mikki Baloy
REFRESH-INTERVAL;VALUE=DURATION:PT1H
X-Robots-Tag:noindex
X-PUBLISHED-TTL:PT1H
BEGIN:VTIMEZONE
TZID:America/New_York
BEGIN:DAYLIGHT
TZOFFSETFROM:-0500
TZOFFSETTO:-0400
TZNAME:EDT
DTSTART:20230312T070000
END:DAYLIGHT
BEGIN:STANDARD
TZOFFSETFROM:-0400
TZOFFSETTO:-0500
TZNAME:EST
DTSTART:20231105T060000
END:STANDARD
BEGIN:DAYLIGHT
TZOFFSETFROM:-0500
TZOFFSETTO:-0400
TZNAME:EDT
DTSTART:20240310T070000
END:DAYLIGHT
BEGIN:STANDARD
TZOFFSETFROM:-0400
TZOFFSETTO:-0500
TZNAME:EST
DTSTART:20241103T060000
END:STANDARD
BEGIN:DAYLIGHT
TZOFFSETFROM:-0500
TZOFFSETTO:-0400
TZNAME:EDT
DTSTART:20250309T070000
END:DAYLIGHT
BEGIN:STANDARD
TZOFFSETFROM:-0400
TZOFFSETTO:-0500
TZNAME:EST
DTSTART:20251102T060000
END:STANDARD
END:VTIMEZONE
BEGIN:VEVENT
DTSTART;TZID=America/New_York:20241019T120000
DTEND;TZID=America/New_York:20241019T133000
DTSTAMP:20260425T112311
CREATED:20240418T170305Z
LAST-MODIFIED:20240919T131444Z
UID:1409-1729339200-1729344600@mikkibaloy.com
SUMMARY:Conversation with Mother Mary - in person
DESCRIPTION:Connect directly with Mother Mary in an intimate conversation. Her messages in live channeling sessions are always timely\, profound\, uplifting\, and incredibly comforting. Mikki has been connecting with Mary through conscious channeling for over a decade\, and held many of these Conversations online during lockdown. It’s a treat to be able to gather in person to enjoy the sweet Marian energy together!\n\nThere is often time during Mary’s message for Q&A\, blessing\, or guided meditation. Books will be available for purchase and signing.\n\nNote: I recommend the soundbath with Lisa at 10am in the same space. Enjoy that\, get a snack at one of Nyack’s great cafes\, and come back for Mary as part of a self-care day!
URL:https://mikkibaloy.com/event/conversation-with-mary2/
LOCATION:Creative Financial Plan\, 101 S. Broadway\, Nyack\, NY\, 10960\, United States
CATEGORIES:Talk
END:VEVENT
END:VCALENDAR