BEGIN:VCALENDAR
VERSION:2.0
PRODID:-//Mikki Baloy - ECPv6.15.20//NONSGML v1.0//EN
CALSCALE:GREGORIAN
METHOD:PUBLISH
X-ORIGINAL-URL:https://mikkibaloy.com
X-WR-CALDESC:Events for Mikki Baloy
REFRESH-INTERVAL;VALUE=DURATION:PT1H
X-Robots-Tag:noindex
X-PUBLISHED-TTL:PT1H
BEGIN:VTIMEZONE
TZID:America/New_York
BEGIN:DAYLIGHT
TZOFFSETFROM:-0500
TZOFFSETTO:-0400
TZNAME:EDT
DTSTART:20220313T070000
END:DAYLIGHT
BEGIN:STANDARD
TZOFFSETFROM:-0400
TZOFFSETTO:-0500
TZNAME:EST
DTSTART:20221106T060000
END:STANDARD
BEGIN:DAYLIGHT
TZOFFSETFROM:-0500
TZOFFSETTO:-0400
TZNAME:EDT
DTSTART:20230312T070000
END:DAYLIGHT
BEGIN:STANDARD
TZOFFSETFROM:-0400
TZOFFSETTO:-0500
TZNAME:EST
DTSTART:20231105T060000
END:STANDARD
BEGIN:DAYLIGHT
TZOFFSETFROM:-0500
TZOFFSETTO:-0400
TZNAME:EDT
DTSTART:20240310T070000
END:DAYLIGHT
BEGIN:STANDARD
TZOFFSETFROM:-0400
TZOFFSETTO:-0500
TZNAME:EST
DTSTART:20241103T060000
END:STANDARD
END:VTIMEZONE
BEGIN:VEVENT
DTSTART;TZID=America/New_York:20230401T100000
DTEND;TZID=America/New_York:20230401T110000
DTSTAMP:20260425T082515
CREATED:20230124T152015Z
LAST-MODIFIED:20230219T131821Z
UID:1054-1680343200-1680346800@mikkibaloy.com
SUMMARY:Journey to Your Muse (in-person)
DESCRIPTION:Shamanic traditions have used the beat of a drum to enhance intuition and commune with nature and spirit. In ancient Greece\, Muses were called upon for divine assistance in the arts. Combining both principles\, this workshop offers a time-tested method for connecting with the other-than-human to support your creative process. In our time together\, you will: \n-enjoy a grounding meditation \n-be led in a drum journey to meet your personal “muse” or creative ally \n-receive insight into —and even release— any blocks to moving forward \n-take home ideas for continued practice \nOpen to professional artists\, quiet creatives\, and everyone in-between. Please dress comfortably and bring a notebook (or other media) to record your impressions. You’re warmly encouraged to spend time at Watermill afterwards to continue integrating and gathering inspiration.  REGISTER HERE
URL:https://mikkibaloy.com/event/muse/
LOCATION:Watermill Center\, 39 Water Mill Town Rd\, Water Mill\, NY\, 11976\, United States
CATEGORIES:Workshop
END:VEVENT
END:VCALENDAR