BEGIN:VCALENDAR
VERSION:2.0
PRODID:-//Mikki Baloy - ECPv6.15.20//NONSGML v1.0//EN
CALSCALE:GREGORIAN
METHOD:PUBLISH
X-ORIGINAL-URL:https://mikkibaloy.com
X-WR-CALDESC:Events for Mikki Baloy
REFRESH-INTERVAL;VALUE=DURATION:PT1H
X-Robots-Tag:noindex
X-PUBLISHED-TTL:PT1H
BEGIN:VTIMEZONE
TZID:America/New_York
BEGIN:DAYLIGHT
TZOFFSETFROM:-0500
TZOFFSETTO:-0400
TZNAME:EDT
DTSTART:20210314T070000
END:DAYLIGHT
BEGIN:STANDARD
TZOFFSETFROM:-0400
TZOFFSETTO:-0500
TZNAME:EST
DTSTART:20211107T060000
END:STANDARD
BEGIN:DAYLIGHT
TZOFFSETFROM:-0500
TZOFFSETTO:-0400
TZNAME:EDT
DTSTART:20220313T070000
END:DAYLIGHT
BEGIN:STANDARD
TZOFFSETFROM:-0400
TZOFFSETTO:-0500
TZNAME:EST
DTSTART:20221106T060000
END:STANDARD
BEGIN:DAYLIGHT
TZOFFSETFROM:-0500
TZOFFSETTO:-0400
TZNAME:EDT
DTSTART:20230312T070000
END:DAYLIGHT
BEGIN:STANDARD
TZOFFSETFROM:-0400
TZOFFSETTO:-0500
TZNAME:EST
DTSTART:20231105T060000
END:STANDARD
BEGIN:DAYLIGHT
TZOFFSETFROM:-0500
TZOFFSETTO:-0400
TZNAME:EDT
DTSTART:20240310T070000
END:DAYLIGHT
BEGIN:STANDARD
TZOFFSETFROM:-0400
TZOFFSETTO:-0500
TZNAME:EST
DTSTART:20241103T060000
END:STANDARD
BEGIN:DAYLIGHT
TZOFFSETFROM:-0500
TZOFFSETTO:-0400
TZNAME:EDT
DTSTART:20250309T070000
END:DAYLIGHT
BEGIN:STANDARD
TZOFFSETFROM:-0400
TZOFFSETTO:-0500
TZNAME:EST
DTSTART:20251102T060000
END:STANDARD
BEGIN:DAYLIGHT
TZOFFSETFROM:-0500
TZOFFSETTO:-0400
TZNAME:EDT
DTSTART:20260308T070000
END:DAYLIGHT
BEGIN:STANDARD
TZOFFSETFROM:-0400
TZOFFSETTO:-0500
TZNAME:EST
DTSTART:20261101T060000
END:STANDARD
END:VTIMEZONE
BEGIN:VEVENT
DTSTART;TZID=America/New_York:20251102T103000
DTEND;TZID=America/New_York:20251102T233000
DTSTAMP:20260424T110014
CREATED:20251013T144349Z
LAST-MODIFIED:20251013T144349Z
UID:1760-1762079400-1762126200@mikkibaloy.com
SUMMARY:Practice Dying - Unitarian Universalist service
DESCRIPTION:This Samhain/Day of the Dead season is an opportunity to gently consider our own departure and prepare for it in simple and non-scary ways. \nA sermon for the Unitarian Universalist Congregation of Rockland Sunday service. All are welcome. Details for Zoom / directions to the church are here.
URL:https://mikkibaloy.com/event/practice-dying-unitarian-universalist-service/
LOCATION:Unitarian Univ. Cong. of Rockland\, 132 Concklin Rd\, Pomona\, NY\, 10970
CATEGORIES:Talk
END:VEVENT
BEGIN:VEVENT
DTSTART;TZID=America/New_York:20250525T103000
DTEND;TZID=America/New_York:20250525T113000
DTSTAMP:20260424T110014
CREATED:20250113T211701Z
LAST-MODIFIED:20250113T211701Z
UID:1649-1748169000-1748172600@mikkibaloy.com
SUMMARY:Sunday Talk: CUC Westwood NJ
DESCRIPTION:Mikki offers the Sunday talk at Central Unitarian. The theme of the month is Imagination\, so we’ll be exploring the oft-asked spiritual question: “Am I making this up?”
URL:https://mikkibaloy.com/event/cuc-westwood/
LOCATION:CUC\, 205 Kinderkamack Rd\, Westwood\, NJ\, 07675\, United States
CATEGORIES:Talk
END:VEVENT
BEGIN:VEVENT
DTSTART;TZID=America/New_York:20250427T100000
DTEND;TZID=America/New_York:20250427T110000
DTSTAMP:20260424T110014
CREATED:20250409T214333Z
LAST-MODIFIED:20250409T214333Z
UID:1685-1745748000-1745751600@mikkibaloy.com
SUMMARY:Sunday Talk: FUSW\, Hartsdale NY
DESCRIPTION:Mikki will lead the service at the First Unitarian Society of Westchester.
URL:https://mikkibaloy.com/event/sunday-talk-fusw-hartsdale-ny/
LOCATION:FUSW\, 210 North Central Ave\, Hartsdale\, NY\, United States
CATEGORIES:Talk
END:VEVENT
BEGIN:VEVENT
DTSTART;TZID=America/New_York:20250220T080000
DTEND;TZID=America/New_York:20250223T170000
DTSTAMP:20260424T110014
CREATED:20241001T135154Z
LAST-MODIFIED:20250113T211220Z
UID:1559-1740038400-1740330000@mikkibaloy.com
SUMMARY:ConVocation
DESCRIPTION:Mikki will be presenting three breakout sessions at ConVocation\, one of the largest mystical gatherings in the US. Visit www.convocation.org home to register for the conference proper and learn from renowned pagan/heathen/shamanic teachers. The hotel may be full but there are other accommodations available nearby. \nMikki will have rattles\, books\, and stickers for sale in the Art Room\, and is presenting Conversation with Mother Mary\, Ancestral Lineage Healing\, and a Despacho during the conference.
URL:https://mikkibaloy.com/event/convocation-2/
LOCATION:Ann Arbor Marriot Ypsilanti Eagle Crest Resort Hotel\, Ypsilanti\, MI\, United States
CATEGORIES:Talk,Workshop
END:VEVENT
BEGIN:VEVENT
DTSTART;TZID=America/New_York:20241117T103000
DTEND;TZID=America/New_York:20241117T113000
DTSTAMP:20260424T110014
CREATED:20240819T233111Z
LAST-MODIFIED:20240820T180454Z
UID:1514-1731839400-1731843000@mikkibaloy.com
SUMMARY:Sunday talk: Who are the ancestors?
DESCRIPTION:I’m happy to join the UU of South Suffolk (Long Island) for a Sunday service honoring the ancestors. All are welcome. \nWho are the ancestors\, and how and why should we connect with them? We’ll briefly explore the cross-cultural and historical prevalence of ancestral practices\, including the contemporary modality of Ancestral Lineage Healing\, as a way to understand the reciprocity and possibility of these connections.
URL:https://mikkibaloy.com/event/sunday-ancestors/
LOCATION:UU Society of South Suffolk\, 28 Brentwood Rd\, Bay Shore\, NY\, 11706\, United States
CATEGORIES:Talk
END:VEVENT
BEGIN:VEVENT
DTSTART;TZID=America/New_York:20241019T120000
DTEND;TZID=America/New_York:20241019T133000
DTSTAMP:20260424T110014
CREATED:20240418T170305Z
LAST-MODIFIED:20240919T131444Z
UID:1409-1729339200-1729344600@mikkibaloy.com
SUMMARY:Conversation with Mother Mary - in person
DESCRIPTION:Connect directly with Mother Mary in an intimate conversation. Her messages in live channeling sessions are always timely\, profound\, uplifting\, and incredibly comforting. Mikki has been connecting with Mary through conscious channeling for over a decade\, and held many of these Conversations online during lockdown. It’s a treat to be able to gather in person to enjoy the sweet Marian energy together!\n\nThere is often time during Mary’s message for Q&A\, blessing\, or guided meditation. Books will be available for purchase and signing.\n\nNote: I recommend the soundbath with Lisa at 10am in the same space. Enjoy that\, get a snack at one of Nyack’s great cafes\, and come back for Mary as part of a self-care day!
URL:https://mikkibaloy.com/event/conversation-with-mary2/
LOCATION:Creative Financial Plan\, 101 S. Broadway\, Nyack\, NY\, 10960\, United States
CATEGORIES:Talk
END:VEVENT
BEGIN:VEVENT
DTSTART;TZID=America/New_York:20240229T190000
DTEND;TZID=America/New_York:20240229T200000
DTSTAMP:20260424T110014
CREATED:20240119T201200Z
LAST-MODIFIED:20240123T190729Z
UID:1278-1709233200-1709236800@mikkibaloy.com
SUMMARY:Trauma Talk for Practitioners
DESCRIPTION:How can healers and coaches be better at what they do? \nWhen you’ve learned about transformation and self-improvement\, why is it also important to be trauma-informed? \nWhy are so many spiritual-seeker clients and students being negatively impacted by the very things that are marketed to help them? \nIf you’re wanting to improve your skills as a healer or coach in any modality\, join Mikki and the multi-talented Eryka Peskin for this informal conversation and Q&A. Build your vocabulary with us and leave with resources to continue practicing deeper integrity and kindness with your clients. \nMikki will bring fifteen years of experience as a shamanic healer and ritualist (including her mistakes and lessons learned) to this chat with Eryka\, who has “more licenses than any one person should have to maintain” and currently supports practitioners in being trauma-informed. Come in your pjs or tune in from your office for this friendly and informative chat. \nThis talk is free. Your registration email will be shared only with both facilitators (opt-out anytime). \nRSVP HERE \nEryka Peskin (she/her)\, is a social worker licensed in both New York and Idaho. She is a proud social justice warrior who wants the world to be more trauma-informed\, and trains coaches and healers on how to be trauma-informed practitioners. She is also a writer and photographer\, as well as a trauma-informed mindset coach. She works with people on shifting their mindset from scarcity to abundance\, conquering their limiting beliefs and their fears and their pernicious inner critic\, understanding how money works\, and building confidence.
URL:https://mikkibaloy.com/event/traumatalk/
LOCATION:online
CATEGORIES:Talk
END:VEVENT
BEGIN:VEVENT
DTSTART;TZID=America/New_York:20231126T103000
DTEND;TZID=America/New_York:20231126T120000
DTSTAMP:20260424T110014
CREATED:20231020T132804Z
LAST-MODIFIED:20231020T132804Z
UID:1178-1700994600-1701000000@mikkibaloy.com
SUMMARY:Central Unitarian Church guest minister
DESCRIPTION:I’m pleased to speak about animism and shamanism during the CUC’s Sunday service. Everyone is welcome\, in person or online (click here for the Zoom link). \n  \nI’m approved to be a guest minister for UU churches in the northeast. I can also speak at your organization: please inquire for rates and topics.
URL:https://mikkibaloy.com/event/central-unitarian-church/
LOCATION:CUC\, 205 Kinderkamack Rd\, Westwood\, NJ\, 07675\, United States
CATEGORIES:Talk
END:VEVENT
BEGIN:VEVENT
DTSTART;TZID=America/New_York:20230507T103000
DTEND;TZID=America/New_York:20230507T113000
DTSTAMP:20260424T110014
CREATED:20230309T142410Z
LAST-MODIFIED:20230309T142410Z
UID:1087-1683455400-1683459000@mikkibaloy.com
SUMMARY:What Mary Told Me About Sin - for UUCR
DESCRIPTION:Guest speaker for the Unitarian Universalist Congregation of Rockland. I’ll be discussing what Mother Mary has shared with me about sin and shame. Everyone is welcome to join in-person or virtually (hybrid service).
URL:https://mikkibaloy.com/event/sin-uucr/
LOCATION:Unitarian Univ. Cong. of Rockland\, 132 Concklin Rd\, Pomona\, NY\, 10970
CATEGORIES:Talk
END:VEVENT
BEGIN:VEVENT
DTSTART;TZID=America/New_York:20230122T140000
DTEND;TZID=America/New_York:20230122T150000
DTSTAMP:20260424T110014
CREATED:20221223T145521Z
LAST-MODIFIED:20221223T145521Z
UID:1004-1674396000-1674399600@mikkibaloy.com
SUMMARY:Author Talk (online)
DESCRIPTION:Tune into Youtube Live for a chat between two authors\, former collaborators\, and friends. Mikki will be joined by Jamie Lyn Smith to discuss the writing of Conversations with Mother Mary– and your questions are welcome\, too: submit one here. \nJamie Lyn Smith is a writer\, editor\, and teacher. She earned her BA in English and Theatre from Kenyon College\, her Masters in Education from Fordham University\, and her MFA in Creative Writing from Ohio State. Jamie Lyn is a founding member of BreakBread Literacy Project\, Editor-at-Large at BreakBread Magazine and a reader for the Kenyon Review. Her work has appeared in The Pinch\, The Mississippi Review\, The Kenyon Review\, American Literary Review\, Yemassee\, Bayou\, and other fine literary magazines. Her short story collection\, Township\, debuted from Cornerstone Press in January 2022. She is currently writing Hometown\, a novel about millennial crises and the rise of white nationalism in the rural Midwest\, for which she received a 2020 Ohio Arts Council Individual Excellence Award.
URL:https://mikkibaloy.com/event/author-talk-online/
LOCATION:online
CATEGORIES:Talk
END:VEVENT
BEGIN:VEVENT
DTSTART;TZID=America/New_York:20221117T233000
DTEND;TZID=America/New_York:20221117T235000
DTSTAMP:20260424T110014
CREATED:20221101T145520Z
LAST-MODIFIED:20221101T145520Z
UID:961-1668727800-1668729000@mikkibaloy.com
SUMMARY:IG Live: Therapin*y Thursdays
DESCRIPTION:A meet-and-greet via Instagram Live\, hosted by the premiere online space for Filipina/x/o wellness\, mental health resources\, and collective care. Feel free to join in on your phone! \n(I will be speaking at 8:35pm PST/ 11:35pm EST)
URL:https://mikkibaloy.com/event/therapiny-thursdays/
LOCATION:online
CATEGORIES:Talk
END:VEVENT
BEGIN:VEVENT
DTSTART;TZID=America/New_York:20221108T120000
DTEND;TZID=America/New_York:20221108T130000
DTSTAMP:20260424T110014
CREATED:20221101T144315Z
LAST-MODIFIED:20221101T144315Z
UID:958-1667908800-1667912400@mikkibaloy.com
SUMMARY:HCAP Healers Panel
DESCRIPTION:Physical\, spiritual\, and mental health are all crucial parts of our overall wellness. Western medicine and psychological treatment are the most common modalities for healing in the United States\, but what about Eastern medicine\, Indigenous healing practices\, and other holistic practices? What are some alternative forms of healing and how can they strengthen our wellness practices? \nRSVP at: \nbit.ly/hcap118\n\nThis event is sponsored by Hunter College AANAPISI Project (HCAP)\n\nWith Gabriella Fullon LMHC\, Mona Chopra L.Ac.\, Inez Galvez (reiki\, Pilates\, HHC)\, and Mikki Baloy (shamanic and ancestral healing)
URL:https://mikkibaloy.com/event/hcap-healers-panel/
LOCATION:online
CATEGORIES:Talk
END:VEVENT
BEGIN:VEVENT
DTSTART;TZID=America/New_York:20221101T190000
DTEND;TZID=America/New_York:20221101T200000
DTSTAMP:20260424T110014
CREATED:20220922T153057Z
LAST-MODIFIED:20220922T153057Z
UID:922-1667329200-1667332800@mikkibaloy.com
SUMMARY:Free Talk: Ancestral Lineage Healing
DESCRIPTION:In honor of Samhain and All Souls/All Saints observances\, we’ll gather for a conversation about the ancestors: \n\nWho are they?\nHow and why should you connect with them?\nHow can you heal the burdens –and keep the blessings– of your ancestral inheritance?\n\nThis short intro to Ancestral Lineage Healing is a great orientation to beginning your own journey. There will be time for Q&A – questions are encouraged! \nThis talk is free but will not be recorded – please do join us in person. RSVP HERE to receive the Zoom link.
URL:https://mikkibaloy.com/event/free-talk-alh/
LOCATION:online
CATEGORIES:Talk
END:VEVENT
BEGIN:VEVENT
DTSTART;TZID=America/New_York:20220605T104500
DTEND;TZID=America/New_York:20220605T114500
DTSTAMP:20260424T110014
CREATED:20220526T001918Z
LAST-MODIFIED:20220528T154159Z
UID:747-1654425900-1654429500@mikkibaloy.com
SUMMARY:Healing with the Ancestors - Talk
DESCRIPTION:Who are the ancestors\, and how and why should we connect with them? We’ll briefly explore the cross-cultural and historical prevalence of ancestral practices\, including the contemporary modality of Ancestral Lineage Healing\, as a way to understand the reciprocity and possibility of these connections.\n\nThis free talk is a Sunday sermon for the Lakeland Unitarian Universalist Fellowship of Wayne\, NJ. All are welcome\, virtually or in-person.
URL:https://mikkibaloy.com/event/healing-with-the-ancestors-luuf/
LOCATION:Lakeland Unitarian Fellowship\, 231 Parish Dr #6010\, Wayne\, NJ\, 07470\, United States
CATEGORIES:Talk
END:VEVENT
BEGIN:VEVENT
DTSTART;TZID=America/New_York:20220515T103000
DTEND;TZID=America/New_York:20220515T113000
DTSTAMP:20260424T110014
CREATED:20220503T203741Z
LAST-MODIFIED:20220503T203815Z
UID:690-1652610600-1652614200@mikkibaloy.com
SUMMARY:Healing with the Ancestors - Talk
DESCRIPTION:Who are the ancestors\, and how and why should we connect with them? We’ll briefly explore the cross-cultural and historical prevalence of ancestral practices\, including the contemporary modality of Ancestral Lineage Healing\, as a way to understand the reciprocity and possibility of these connections.\n\nThis free talk is a Sunday sermon for the Unitarian Universalist Congregation of Rockland. All are welcome\, virtually or in-person.
URL:https://mikkibaloy.com/event/healing-with-the-ancestors-talk/
LOCATION:Unitarian Univ. Cong. of Rockland\, 132 Concklin Rd\, Pomona\, NY\, 10970
CATEGORIES:Talk
END:VEVENT
END:VCALENDAR